BEGIN:VCALENDAR
VERSION:2.0
PRODID:-//jEvents 2.0 for Joomla//EN
CALSCALE:GREGORIAN
METHOD:PUBLISH
BEGIN:VEVENT
UID:0592c221c8df60e9a11ccde529e24d57
CATEGORIES:Leisure/Hobbies/Recreation
CREATED:20211023T150659
SUMMARY:Pine Needle Basket Class at the Florissant Grange
LOCATION:Florissant Grange #420, 2009 Co Rd 31, Florissant, CO 80816
DESCRIPTION;ENCODING=QUOTED-PRINTABLE:EVERYONE is welcome at the Florissant Grange. Your membership is not requir
 ed to attend our events, but we welcome you to become an active/ “doer”,  m
 ember ($40/YEAR).\n\nPine Needle Basket Class is always the second Saturday
  of each month unless otherwise noted. Call 719-510-2325 for more informati
 on.\nWHAT IS THE GRANGE?\n\nWe receive many questions about the Florissant 
 Grange Organization and the answer to most of these questions, are:  The Gr
 ange Organization is a Fraternal Organization that is centered on Community
  Service.\n\n\nWe are dedicated to our Community and we thrive on community
  support.  We are open to everyone and invite everyone to join us at all ou
 r activities and meetings.  We love to gain new members and encourage every
 one to join.  You do not have to be a member to come to our events or to co
 me to our meetings.  If you are curious about us – come see what we are all
  about.  We have a very corny motto, but it is true to its word… “You are n
 ever a stranger if you are a Granger.”  Join us anytime.\n\n\nEveryone is w
 elcome and encouraged to attend our monthly meetings.  Come see what the Gr
 ange is all about. We are not a closed organization and we encourage everyo
 ne to join us.  We would love to have you as a member because we are here f
 or YOU.\n\n\nhttps://florissantgrange420.org/\n\n\n \n
CONTACT:Contact Us:  This email address is being protected from spambots. You need JavaScript enabled to view it.
				document.getElementById('cloakcd9e5da1fe362213ef7e9a127bf381dd').innerHTML = '';
				var prefix = '&#109;a' + 'i&#108;' + '&#116;o';
				var path = 'hr' + 'ef' + '=';
				var addycd9e5da1fe362213ef7e9a127bf381dd = 'fl&#111;r&#105;ss&#97;ntgr&#97;ng&#101;' + '&#64;';
				addycd9e5da1fe362213ef7e9a127bf381dd = addycd9e5da1fe362213ef7e9a127bf381dd + 'gm&#97;&#105;l' + '&#46;' + 'c&#111;m';
				var addy_textcd9e5da1fe362213ef7e9a127bf381dd = 'fl&#111;r&#105;ss&#97;ntgr&#97;ng&#101;' + '&#64;' + 'gm&#97;&#105;l' + '&#46;' + 'c&#111;m';document.getElementById('cloakcd9e5da1fe362213ef7e9a127bf381dd').innerHTML += ''+addy_textcd9e5da1fe362213ef7e9a127bf381dd+'';
		 or 719-510-2325
DTSTAMP:20260425T060401Z
DTSTART;TZID=America/Denver;VALUE=DATE:20981213
DTEND;TZID=America/Denver;VALUE=DATE:20981214
SEQUENCE:0
TRANSP:OPAQUE
END:VEVENT
END:VCALENDAR