BEGIN:VCALENDAR
VERSION:2.0
PRODID:-//jEvents 2.0 for Joomla//EN
CALSCALE:GREGORIAN
METHOD:PUBLISH
BEGIN:VTIMEZONE
TZID:America/Denver
BEGIN:STANDARD
DTSTART:20211107T010000
RDATE:20220313T030000
TZOFFSETFROM:-0600
TZOFFSETTO:-0700
TZNAME:America/Denver MST
END:STANDARD
BEGIN:STANDARD
DTSTART:20221106T010000
RDATE:20230312T030000
TZOFFSETFROM:-0600
TZOFFSETTO:-0700
TZNAME:America/Denver MST
END:STANDARD
BEGIN:STANDARD
DTSTART:20231105T010000
RDATE:20240310T030000
TZOFFSETFROM:-0600
TZOFFSETTO:-0700
TZNAME:America/Denver MST
END:STANDARD
BEGIN:STANDARD
DTSTART:20241103T010000
RDATE:20250309T030000
TZOFFSETFROM:-0600
TZOFFSETTO:-0700
TZNAME:America/Denver MST
END:STANDARD
BEGIN:STANDARD
DTSTART:20251102T010000
RDATE:20260308T030000
TZOFFSETFROM:-0600
TZOFFSETTO:-0700
TZNAME:America/Denver MST
END:STANDARD
BEGIN:STANDARD
DTSTART:20261101T010000
RDATE:20270314T030000
TZOFFSETFROM:-0600
TZOFFSETTO:-0700
TZNAME:America/Denver MST
END:STANDARD
BEGIN:STANDARD
DTSTART:20271107T010000
RDATE:20280312T030000
TZOFFSETFROM:-0600
TZOFFSETTO:-0700
TZNAME:America/Denver MST
END:STANDARD
BEGIN:STANDARD
DTSTART:20281105T010000
RDATE:20290311T030000
TZOFFSETFROM:-0600
TZOFFSETTO:-0700
TZNAME:America/Denver MST
END:STANDARD
BEGIN:STANDARD
DTSTART:20291104T010000
RDATE:20300310T030000
TZOFFSETFROM:-0600
TZOFFSETTO:-0700
TZNAME:America/Denver MST
END:STANDARD
BEGIN:STANDARD
DTSTART:20301103T010000
RDATE:20310309T030000
TZOFFSETFROM:-0600
TZOFFSETTO:-0700
TZNAME:America/Denver MST
END:STANDARD
BEGIN:STANDARD
DTSTART:20311102T010000
RDATE:20320314T030000
TZOFFSETFROM:-0600
TZOFFSETTO:-0700
TZNAME:America/Denver MST
END:STANDARD
BEGIN:DAYLIGHT
DTSTART:20210622T070000
RDATE:20211107T010000
TZOFFSETFROM:-0700
TZOFFSETTO:-0600
TZNAME:America/Denver MDT
END:DAYLIGHT
BEGIN:DAYLIGHT
DTSTART:20220313T030000
RDATE:20221106T010000
TZOFFSETFROM:-0700
TZOFFSETTO:-0600
TZNAME:America/Denver MDT
END:DAYLIGHT
BEGIN:DAYLIGHT
DTSTART:20230312T030000
RDATE:20231105T010000
TZOFFSETFROM:-0700
TZOFFSETTO:-0600
TZNAME:America/Denver MDT
END:DAYLIGHT
BEGIN:DAYLIGHT
DTSTART:20240310T030000
RDATE:20241103T010000
TZOFFSETFROM:-0700
TZOFFSETTO:-0600
TZNAME:America/Denver MDT
END:DAYLIGHT
BEGIN:DAYLIGHT
DTSTART:20250309T030000
RDATE:20251102T010000
TZOFFSETFROM:-0700
TZOFFSETTO:-0600
TZNAME:America/Denver MDT
END:DAYLIGHT
BEGIN:DAYLIGHT
DTSTART:20260308T030000
RDATE:20261101T010000
TZOFFSETFROM:-0700
TZOFFSETTO:-0600
TZNAME:America/Denver MDT
END:DAYLIGHT
BEGIN:DAYLIGHT
DTSTART:20270314T030000
RDATE:20271107T010000
TZOFFSETFROM:-0700
TZOFFSETTO:-0600
TZNAME:America/Denver MDT
END:DAYLIGHT
BEGIN:DAYLIGHT
DTSTART:20280312T030000
RDATE:20281105T010000
TZOFFSETFROM:-0700
TZOFFSETTO:-0600
TZNAME:America/Denver MDT
END:DAYLIGHT
BEGIN:DAYLIGHT
DTSTART:20290311T030000
RDATE:20291104T010000
TZOFFSETFROM:-0700
TZOFFSETTO:-0600
TZNAME:America/Denver MDT
END:DAYLIGHT
BEGIN:DAYLIGHT
DTSTART:20300310T030000
RDATE:20301103T010000
TZOFFSETFROM:-0700
TZOFFSETTO:-0600
TZNAME:America/Denver MDT
END:DAYLIGHT
BEGIN:DAYLIGHT
DTSTART:20310309T030000
RDATE:20311102T010000
TZOFFSETFROM:-0700
TZOFFSETTO:-0600
TZNAME:America/Denver MDT
END:DAYLIGHT
END:VTIMEZONE
BEGIN:VEVENT
UID:9def1f5c0eb7ab268ef60746388c8858
CATEGORIES:Health, Wellness, & Safety
CREATED:20220111T123417
SUMMARY:Jefferson County COVID-19 Testing - Golden
LOCATION:Colorado Christian University, 260 S Kipling St, Lakewood, CO 80226
DESCRIPTION;ENCODING=QUOTED-PRINTABLE:Who should get tested for COVID-19?\n\nIf you have symptoms of COVID-19 or 
 have been exposed, get tested. If you are exposed to a COVID-19 case, get t
 ested 3-5 days after the exposure if you are unvaccinated, and 5-7 days aft
 er the exposure if you are vaccinated. Getting tested will provide the diag
 nosis you need to determine your next steps.\n\n\nSymptoms may appear 2-14 
 days after exposure to the virus, and testing is the most accurate when sym
 ptoms are present. Symptoms include:\n\n - Fever or chills\n - Cough\n - Sh
 ortness of breath or difficulty breathing\n - Fatigue\n - Muscle or body ac
 hes\n - Headache\n - New loss of taste or smell\n - Sore throat\n - Congest
 ion or runny nose\n - Nausea or vomiting\n - Diarrhea\n\nTesting Locations,
  Dates, and Times\nWhat if I test positive for COVID-19?\n\nIf you test pos
 itive, you will need to isolate yourself, take care of yourself and monitor
  your symptoms.\n\n - Talk with your healthcare provider for guidance about
  your care. Consider a telehealth visit or nurseline before seeking in-pers
 on care.\n - The people who have been in close contact with you will need t
 o take precautions. Read more about self-quarantining.\n - If you’d like to
  receive text messages with information about support available during isol
 ation and/or quarantine, use CDPHE’s support tool.Exposure notification: Wo
 rk with public health to help slow the spread.\n\nWhen a person is diagnose
 d with COVID-19, it is very important for JCPH to quickly identify any indi
 viduals who have come in close contact with that person. This allows us to 
 let that person know they could have been exposed to the virus, so they can
  also take steps to protect their own health and the health of their loved 
 ones. \n\n\nFollowing your positive diagnosis, an employee from JCPH will c
 all you to check-in on your health, discuss who you’ve been in contact with
  and ask you to stay at home to self-isolate. We will also reach out to clo
 se contacts who could have been exposed, and ask them to monitor their symp
 toms and self-quarantine. We will never disclose your name to those close c
 ontacts. Please answer our call to help us slow transmission.  \n\n\nCheck 
 out this fact sheet for more information about exposure notification (conta
 ct tracing).\nAdditional Resources\n - NEW: JCPH COVID-19 Testing Resources
  Guide\n - Find more information about testing from CDPHE.\n\nhttps://www.j
 effco.us/4075/Testing\n\n\n\n
CONTACT:This email address is being protected from spambots. You need JavaScript enabled to view it.
				document.getElementById('cloak62ce57f2da6dfe585dd61850a316e301').innerHTML = '';
				var prefix = '&#109;a' + 'i&#108;' + '&#116;o';
				var path = 'hr' + 'ef' + '=';
				var addy62ce57f2da6dfe585dd61850a316e301 = 'H&#101;&#97;lthEPR' + '&#64;';
				addy62ce57f2da6dfe585dd61850a316e301 = addy62ce57f2da6dfe585dd61850a316e301 + 'j&#101;ffc&#111;' + '&#46;' + '&#117;s';
				var addy_text62ce57f2da6dfe585dd61850a316e301 = 'H&#101;&#97;lthEPR' + '&#64;' + 'j&#101;ffc&#111;' + '&#46;' + '&#117;s';document.getElementById('cloak62ce57f2da6dfe585dd61850a316e301').innerHTML += ''+addy_text62ce57f2da6dfe585dd61850a316e301+'';
		
DTSTAMP:20260424T082729Z
DTSTART;TZID=America/Denver:20220623T070000
DTEND;TZID=America/Denver:20220623T170000
SEQUENCE:0
TRANSP:OPAQUE
END:VEVENT
END:VCALENDAR