BEGIN:VCALENDAR
VERSION:2.0
PRODID:-//jEvents 2.0 for Joomla//EN
CALSCALE:GREGORIAN
METHOD:PUBLISH
BEGIN:VEVENT
UID:36616b027d483c6ac6ebd14b06d84a68
CATEGORIES:Nonprofit/Fundraiser
CREATED:20150407T224554
SUMMARY:Alma Foundation Meeting
LOCATION:Alma Town Hall, 59 Buckskin St, Alma, CO 80420
DESCRIPTION;ENCODING=QUOTED-PRINTABLE:\n\nAlma Foundation meetings are the last Tuesday of each month at the Alma
  Town Hall @ 6pm.\n Volunteers &amp; visitors are always welcome.\n\n\nhttp
 ://almafoundation.com/main-index/about/meetings-schedule/\n\n\n \n
CONTACT:719.836.2712 or This email address is being protected from spambots. You need JavaScript enabled to view it.
				document.getElementById('cloakef87fcf5cf1ab27c97f724757e9cd995').innerHTML = '';
				var prefix = '&#109;a' + 'i&#108;' + '&#116;o';
				var path = 'hr' + 'ef' + '=';
				var addyef87fcf5cf1ab27c97f724757e9cd995 = '&#105;nf&#111;' + '&#64;';
				addyef87fcf5cf1ab27c97f724757e9cd995 = addyef87fcf5cf1ab27c97f724757e9cd995 + '&#97;lm&#97;f&#111;&#117;nd&#97;t&#105;&#111;n' + '&#46;' + 'c&#111;m';
				var addy_textef87fcf5cf1ab27c97f724757e9cd995 = '&#105;nf&#111;' + '&#64;' + '&#97;lm&#97;f&#111;&#117;nd&#97;t&#105;&#111;n' + '&#46;' + 'c&#111;m';document.getElementById('cloakef87fcf5cf1ab27c97f724757e9cd995').innerHTML += ''+addy_textef87fcf5cf1ab27c97f724757e9cd995+'';
		
X-EXTRAINFO:http://almafoundation.com/
DTSTAMP:20260425T190833Z
DTSTART;TZID=America/Denver:20850529T180000
SEQUENCE:0
TRANSP:OPAQUE
END:VEVENT
END:VCALENDAR