BEGIN:VCALENDAR
VERSION:2.0
PRODID:-//jEvents 2.0 for Joomla//EN
CALSCALE:GREGORIAN
METHOD:PUBLISH
BEGIN:VTIMEZONE
TZID:America/Denver
BEGIN:STANDARD
DTSTART:20241103T010000
RDATE:20250309T030000
TZOFFSETFROM:-0600
TZOFFSETTO:-0700
TZNAME:America/Denver MST
END:STANDARD
BEGIN:STANDARD
DTSTART:20251102T010000
RDATE:20260308T030000
TZOFFSETFROM:-0600
TZOFFSETTO:-0700
TZNAME:America/Denver MST
END:STANDARD
BEGIN:STANDARD
DTSTART:20261101T010000
RDATE:20270314T030000
TZOFFSETFROM:-0600
TZOFFSETTO:-0700
TZNAME:America/Denver MST
END:STANDARD
BEGIN:STANDARD
DTSTART:20271107T010000
RDATE:20280312T030000
TZOFFSETFROM:-0600
TZOFFSETTO:-0700
TZNAME:America/Denver MST
END:STANDARD
BEGIN:STANDARD
DTSTART:20281105T010000
RDATE:20290311T030000
TZOFFSETFROM:-0600
TZOFFSETTO:-0700
TZNAME:America/Denver MST
END:STANDARD
BEGIN:STANDARD
DTSTART:20291104T010000
RDATE:20300310T030000
TZOFFSETFROM:-0600
TZOFFSETTO:-0700
TZNAME:America/Denver MST
END:STANDARD
BEGIN:STANDARD
DTSTART:20301103T010000
RDATE:20310309T030000
TZOFFSETFROM:-0600
TZOFFSETTO:-0700
TZNAME:America/Denver MST
END:STANDARD
BEGIN:STANDARD
DTSTART:20311102T010000
RDATE:20320314T030000
TZOFFSETFROM:-0600
TZOFFSETTO:-0700
TZNAME:America/Denver MST
END:STANDARD
BEGIN:DAYLIGHT
DTSTART:20240423T180000
RDATE:20241103T010000
TZOFFSETFROM:-0700
TZOFFSETTO:-0600
TZNAME:America/Denver MDT
END:DAYLIGHT
BEGIN:DAYLIGHT
DTSTART:20250309T030000
RDATE:20251102T010000
TZOFFSETFROM:-0700
TZOFFSETTO:-0600
TZNAME:America/Denver MDT
END:DAYLIGHT
BEGIN:DAYLIGHT
DTSTART:20260308T030000
RDATE:20261101T010000
TZOFFSETFROM:-0700
TZOFFSETTO:-0600
TZNAME:America/Denver MDT
END:DAYLIGHT
BEGIN:DAYLIGHT
DTSTART:20270314T030000
RDATE:20271107T010000
TZOFFSETFROM:-0700
TZOFFSETTO:-0600
TZNAME:America/Denver MDT
END:DAYLIGHT
BEGIN:DAYLIGHT
DTSTART:20280312T030000
RDATE:20281105T010000
TZOFFSETFROM:-0700
TZOFFSETTO:-0600
TZNAME:America/Denver MDT
END:DAYLIGHT
BEGIN:DAYLIGHT
DTSTART:20290311T030000
RDATE:20291104T010000
TZOFFSETFROM:-0700
TZOFFSETTO:-0600
TZNAME:America/Denver MDT
END:DAYLIGHT
BEGIN:DAYLIGHT
DTSTART:20300310T030000
RDATE:20301103T010000
TZOFFSETFROM:-0700
TZOFFSETTO:-0600
TZNAME:America/Denver MDT
END:DAYLIGHT
BEGIN:DAYLIGHT
DTSTART:20310309T030000
RDATE:20311102T010000
TZOFFSETFROM:-0700
TZOFFSETTO:-0600
TZNAME:America/Denver MDT
END:DAYLIGHT
END:VTIMEZONE
BEGIN:VEVENT
UID:e8e746a5d018dd8890faa51655565b8f
CATEGORIES:Community Events, Politics
CREATED:20130705T225539
SUMMARY:Elk Creek Fire Protection District Pension Board of Trustees Meeting
LOCATION:Elk Creek Fire Station 1, 11993 Blackfoot Rd, Conifer, CO 80433
DESCRIPTION;ENCODING=QUOTED-PRINTABLE:<div>The public is invited and encouraged to attend the quarterly Elk Creek
  Fire Protection District's Pension Board of Trustees meeting on the 4th Th
 ursday of January, April, July, and October starting at 6pm. The meetings w
 ill be held in person and virtually via Zoom. The link to attend and meetin
 g agenda can be found on our <span style="text-decoration: underline;"><a h
 ref="https://elkcreekfpd.colorado.gov/transparency/meeting-minutes-and-agen
 das">Meeting Agendas and Meeting Minutes</a> page.</span></div>
CONTACT:Barbara Stockton: This email address is being protected from spambots. You need JavaScript enabled to view it.
				document.getElementById('cloak961385f08979812f0e4033c9e7ccd510').innerHTML = '';
				var prefix = '&#109;a' + 'i&#108;' + '&#116;o';
				var path = 'hr' + 'ef' + '=';
				var addy961385f08979812f0e4033c9e7ccd510 = 'bst&#111;ckt&#111;n' + '&#64;';
				addy961385f08979812f0e4033c9e7ccd510 = addy961385f08979812f0e4033c9e7ccd510 + '&#101;lkcr&#101;&#101;kf&#105;r&#101;' + '&#46;' + '&#111;rg';
				var addy_text961385f08979812f0e4033c9e7ccd510 = 'bst&#111;ckt&#111;n' + '&#64;' + '&#101;lkcr&#101;&#101;kf&#105;r&#101;' + '&#46;' + '&#111;rg';document.getElementById('cloak961385f08979812f0e4033c9e7ccd510').innerHTML += ''+addy_text961385f08979812f0e4033c9e7ccd510+'';
		
DTSTAMP:20260425T063623Z
DTSTART;TZID=America/Denver:20250424T180000
DTEND;TZID=America/Denver:20250424T190000
SEQUENCE:0
TRANSP:OPAQUE
END:VEVENT
END:VCALENDAR