BEGIN:VCALENDAR
VERSION:2.0
PRODID:-//jEvents 2.0 for Joomla//EN
CALSCALE:GREGORIAN
METHOD:PUBLISH
BEGIN:VTIMEZONE
TZID:America/Denver
BEGIN:STANDARD
DTSTART:20251102T010000
RDATE:20260308T030000
TZOFFSETFROM:-0600
TZOFFSETTO:-0700
TZNAME:America/Denver MST
END:STANDARD
BEGIN:STANDARD
DTSTART:20261101T010000
RDATE:20270314T030000
TZOFFSETFROM:-0600
TZOFFSETTO:-0700
TZNAME:America/Denver MST
END:STANDARD
BEGIN:STANDARD
DTSTART:20271107T010000
RDATE:20280312T030000
TZOFFSETFROM:-0600
TZOFFSETTO:-0700
TZNAME:America/Denver MST
END:STANDARD
BEGIN:STANDARD
DTSTART:20281105T010000
RDATE:20290311T030000
TZOFFSETFROM:-0600
TZOFFSETTO:-0700
TZNAME:America/Denver MST
END:STANDARD
BEGIN:STANDARD
DTSTART:20291104T010000
RDATE:20300310T030000
TZOFFSETFROM:-0600
TZOFFSETTO:-0700
TZNAME:America/Denver MST
END:STANDARD
BEGIN:STANDARD
DTSTART:20301103T010000
RDATE:20310309T030000
TZOFFSETFROM:-0600
TZOFFSETTO:-0700
TZNAME:America/Denver MST
END:STANDARD
BEGIN:STANDARD
DTSTART:20311102T010000
RDATE:20320314T030000
TZOFFSETFROM:-0600
TZOFFSETTO:-0700
TZNAME:America/Denver MST
END:STANDARD
BEGIN:DAYLIGHT
DTSTART:20250405T180000
RDATE:20251102T010000
TZOFFSETFROM:-0700
TZOFFSETTO:-0600
TZNAME:America/Denver MDT
END:DAYLIGHT
BEGIN:DAYLIGHT
DTSTART:20260308T030000
RDATE:20261101T010000
TZOFFSETFROM:-0700
TZOFFSETTO:-0600
TZNAME:America/Denver MDT
END:DAYLIGHT
BEGIN:DAYLIGHT
DTSTART:20270314T030000
RDATE:20271107T010000
TZOFFSETFROM:-0700
TZOFFSETTO:-0600
TZNAME:America/Denver MDT
END:DAYLIGHT
BEGIN:DAYLIGHT
DTSTART:20280312T030000
RDATE:20281105T010000
TZOFFSETFROM:-0700
TZOFFSETTO:-0600
TZNAME:America/Denver MDT
END:DAYLIGHT
BEGIN:DAYLIGHT
DTSTART:20290311T030000
RDATE:20291104T010000
TZOFFSETFROM:-0700
TZOFFSETTO:-0600
TZNAME:America/Denver MDT
END:DAYLIGHT
BEGIN:DAYLIGHT
DTSTART:20300310T030000
RDATE:20301103T010000
TZOFFSETFROM:-0700
TZOFFSETTO:-0600
TZNAME:America/Denver MDT
END:DAYLIGHT
BEGIN:DAYLIGHT
DTSTART:20310309T030000
RDATE:20311102T010000
TZOFFSETFROM:-0700
TZOFFSETTO:-0600
TZNAME:America/Denver MDT
END:DAYLIGHT
END:VTIMEZONE
BEGIN:VEVENT
UID:c11ddbbdbcb3189af5e169ff88d87414
CATEGORIES:Leisure/Hobbies/Recreation, Arts, Dining, & Entertainment
CREATED:20260105T211814
SUMMARY:Boozy Board Games at Snitching Lady Distillery
LOCATION:Snitching Lady Distillery, 500 Front St, Fairplay, CO 80440
DESCRIPTION;ENCODING=QUOTED-PRINTABLE:\n\nRoll the dice and raise the glass!Every other Monday, Wizards of the Pe
 aks brings epic games to our tasting room for boozy board game nights full 
 of strategy, laughs, and craft cocktails.\n\n\n\n\n\nhttps://www.facebook.c
 om/events/780668315042157/\n
CONTACT:505-795-0548 or This email address is being protected from spambots. You need JavaScript enabled to view it.
				document.getElementById('cloak0420af78c1bae3c15c683fe47a135f4c').innerHTML = '';
				var prefix = '&#109;a' + 'i&#108;' + '&#116;o';
				var path = 'hr' + 'ef' + '=';
				var addy0420af78c1bae3c15c683fe47a135f4c = 'sn&#105;tch&#105;ngl&#97;dyd&#105;st&#105;ll&#101;ry' + '&#64;';
				addy0420af78c1bae3c15c683fe47a135f4c = addy0420af78c1bae3c15c683fe47a135f4c + 'gm&#97;&#105;l' + '&#46;' + 'c&#111;m';
				var addy_text0420af78c1bae3c15c683fe47a135f4c = 'sn&#105;tch&#105;ngl&#97;dyd&#105;st&#105;ll&#101;ry' + '&#64;' + 'gm&#97;&#105;l' + '&#46;' + 'c&#111;m';document.getElementById('cloak0420af78c1bae3c15c683fe47a135f4c').innerHTML += ''+addy_text0420af78c1bae3c15c683fe47a135f4c+'';
		
DTSTAMP:20260420T085031Z
DTSTART;TZID=America/Denver:20260406T180000
SEQUENCE:0
TRANSP:OPAQUE
END:VEVENT
END:VCALENDAR