BEGIN:VCALENDAR
VERSION:2.0
PRODID:-//jEvents 2.0 for Joomla//EN
CALSCALE:GREGORIAN
METHOD:PUBLISH
BEGIN:VEVENT
UID:f65fafa3bcb51fd3fde0e1f253cc6fe7
CATEGORIES:Politics
CREATED:20260105T231210
SUMMARY:Evergreen Area Republican Club Meeting
LOCATION:The Wild Game, 1204 Bergen Pkwy, Evergreen, CO 80439
DESCRIPTION;ENCODING=QUOTED-PRINTABLE:<h3 class="wp-block-heading">1st Wednesday of every month at 6pm</h3><p><a 
 href="https://evergreenarearepublicanclub.org/" target="_blank" rel="noopen
 er noreferrer">https://evergreenarearepublicanclub.org/</a></p><p><a href="
 https://jeffcorepublicans.com/clubs/" target="_blank" rel="noopener norefer
 rer">https://jeffcorepublicans.com/clubs/</a></p><p><strong>Our Mission</st
 rong><br />We love our Country, our State, and our beautiful community. Eve
 rgreen Area Republicans seek to inspire, educate, activate, and recruit cit
 izens of Evergreen, Colorado and take our state back from one party control
 .</p><ul><li>Protect the free rights of the individual</li><li>Protect the 
 free enterprise system</li><li>Reduce government to the lowest practical le
 vel</li><li>Endorse and practice fiscal responsibility</li></ul>
CONTACT:Rich Mancuso This email address is being protected from spambots. You need JavaScript enabled to view it.
				document.getElementById('cloak73c1bf577913c6be1a5f94d2a5b5e0a9').innerHTML = '';
				var prefix = '&#109;a' + 'i&#108;' + '&#116;o';
				var path = 'hr' + 'ef' + '=';
				var addy73c1bf577913c6be1a5f94d2a5b5e0a9 = 'r&#105;ch&#97;rdm&#97;nc&#117;s&#111;10' + '&#64;';
				addy73c1bf577913c6be1a5f94d2a5b5e0a9 = addy73c1bf577913c6be1a5f94d2a5b5e0a9 + 'gm&#97;&#105;l' + '&#46;' + 'c&#111;m';
				var addy_text73c1bf577913c6be1a5f94d2a5b5e0a9 = 'r&#105;ch&#97;rdm&#97;nc&#117;s&#111;10' + '&#64;' + 'gm&#97;&#105;l' + '&#46;' + 'c&#111;m';document.getElementById('cloak73c1bf577913c6be1a5f94d2a5b5e0a9').innerHTML += ''+addy_text73c1bf577913c6be1a5f94d2a5b5e0a9+'';
		
DTSTAMP:20260424T153841Z
DTSTART;TZID=America/Denver:20550303T180000
SEQUENCE:0
TRANSP:OPAQUE
END:VEVENT
END:VCALENDAR