BEGIN:VCALENDAR
VERSION:2.0
PRODID:-//jEvents 2.0 for Joomla//EN
CALSCALE:GREGORIAN
METHOD:PUBLISH
BEGIN:VTIMEZONE
TZID:America/Denver
BEGIN:STANDARD
DTSTART:20251102T010000
RDATE:20260308T030000
TZOFFSETFROM:-0600
TZOFFSETTO:-0700
TZNAME:America/Denver MST
END:STANDARD
BEGIN:STANDARD
DTSTART:20261101T010000
RDATE:20270314T030000
TZOFFSETFROM:-0600
TZOFFSETTO:-0700
TZNAME:America/Denver MST
END:STANDARD
BEGIN:STANDARD
DTSTART:20271107T010000
RDATE:20280312T030000
TZOFFSETFROM:-0600
TZOFFSETTO:-0700
TZNAME:America/Denver MST
END:STANDARD
BEGIN:STANDARD
DTSTART:20281105T010000
RDATE:20290311T030000
TZOFFSETFROM:-0600
TZOFFSETTO:-0700
TZNAME:America/Denver MST
END:STANDARD
BEGIN:STANDARD
DTSTART:20291104T010000
RDATE:20300310T030000
TZOFFSETFROM:-0600
TZOFFSETTO:-0700
TZNAME:America/Denver MST
END:STANDARD
BEGIN:STANDARD
DTSTART:20301103T010000
RDATE:20310309T030000
TZOFFSETFROM:-0600
TZOFFSETTO:-0700
TZNAME:America/Denver MST
END:STANDARD
BEGIN:STANDARD
DTSTART:20311102T010000
RDATE:20320314T030000
TZOFFSETFROM:-0600
TZOFFSETTO:-0700
TZNAME:America/Denver MST
END:STANDARD
BEGIN:DAYLIGHT
DTSTART:20250424T000000
RDATE:20251102T010000
TZOFFSETFROM:-0700
TZOFFSETTO:-0600
TZNAME:America/Denver MDT
END:DAYLIGHT
BEGIN:DAYLIGHT
DTSTART:20260308T030000
RDATE:20261101T010000
TZOFFSETFROM:-0700
TZOFFSETTO:-0600
TZNAME:America/Denver MDT
END:DAYLIGHT
BEGIN:DAYLIGHT
DTSTART:20270314T030000
RDATE:20271107T010000
TZOFFSETFROM:-0700
TZOFFSETTO:-0600
TZNAME:America/Denver MDT
END:DAYLIGHT
BEGIN:DAYLIGHT
DTSTART:20280312T030000
RDATE:20281105T010000
TZOFFSETFROM:-0700
TZOFFSETTO:-0600
TZNAME:America/Denver MDT
END:DAYLIGHT
BEGIN:DAYLIGHT
DTSTART:20290311T030000
RDATE:20291104T010000
TZOFFSETFROM:-0700
TZOFFSETTO:-0600
TZNAME:America/Denver MDT
END:DAYLIGHT
BEGIN:DAYLIGHT
DTSTART:20300310T030000
RDATE:20301103T010000
TZOFFSETFROM:-0700
TZOFFSETTO:-0600
TZNAME:America/Denver MDT
END:DAYLIGHT
BEGIN:DAYLIGHT
DTSTART:20310309T030000
RDATE:20311102T010000
TZOFFSETFROM:-0700
TZOFFSETTO:-0600
TZNAME:America/Denver MDT
END:DAYLIGHT
END:VTIMEZONE
BEGIN:VEVENT
UID:f1c0ed8bafc472a3e6d478621b601fa3
CATEGORIES:Community Events, Arts, Dining, & Entertainment
CREATED:20260419T142915
SUMMARY:The Barbarian Festival
LOCATION:Little Scraggy Event Venue, 22184 Deckers Rd, Sedalia, CO 80425
DESCRIPTION;ENCODING=QUOTED-PRINTABLE:\n\nGET YOUR TIX HERE!!!JOIN US FOR A WEEKEND LONG EVENT @ THE BARBARIAN FE
 STIVAL of Colorado!! This event will be for ALL AGES, 4 AND UNDER FREE!! We
  will be setting up in April with Craft Vendors, Entertaining Shows of all 
 different types like Norse music and performance by Nordic Daughter, and Th
 e Colorado Wardens hosting live battles as well as fire acts like Needlz Th
 e Dragonborn. We will have a Food Court with Themed food such as Turkey leg
 s, Baked Potatos, and Midevil Veggie Stew. Dont forget the Beverges sponsor
 ed by Tommy Knockers Brewery for the best local beer and Slaymakers Cellars
  bringing Mead to enjoy as you traverese our Woodsy treed BARBARIAN FESTIVA
 L!!!! GET YOUR GARB READY AND COME OUT FOR A DAY OR THE FULL WEEKEND WE WIL
 L BE HERE READY FOR YOU!!!!! https://hmfproductions.com/the-barbarian-festi
 val-%E2%9A%94%EF%B8%8F\n\n\nDates/times:\n\n - April 24: 2-10pm\n - April 2
 5: 10am-10pm\n - April 26: 10am-6pm\n\n\n
DTSTAMP:20260424T065424Z
DTSTART;TZID=America/Denver;VALUE=DATE:20260425
DTEND;TZID=America/Denver;VALUE=DATE:20260426
SEQUENCE:0
TRANSP:OPAQUE
END:VEVENT
END:VCALENDAR