BEGIN:VCALENDAR
VERSION:2.0
PRODID:-//jEvents 2.0 for Joomla//EN
CALSCALE:GREGORIAN
METHOD:PUBLISH
BEGIN:VTIMEZONE
TZID:America/Denver
BEGIN:STANDARD
DTSTART:20251102T010000
RDATE:20260308T030000
TZOFFSETFROM:-0600
TZOFFSETTO:-0700
TZNAME:America/Denver MST
END:STANDARD
BEGIN:STANDARD
DTSTART:20261101T010000
RDATE:20270314T030000
TZOFFSETFROM:-0600
TZOFFSETTO:-0700
TZNAME:America/Denver MST
END:STANDARD
BEGIN:STANDARD
DTSTART:20271107T010000
RDATE:20280312T030000
TZOFFSETFROM:-0600
TZOFFSETTO:-0700
TZNAME:America/Denver MST
END:STANDARD
BEGIN:STANDARD
DTSTART:20281105T010000
RDATE:20290311T030000
TZOFFSETFROM:-0600
TZOFFSETTO:-0700
TZNAME:America/Denver MST
END:STANDARD
BEGIN:STANDARD
DTSTART:20291104T010000
RDATE:20300310T030000
TZOFFSETFROM:-0600
TZOFFSETTO:-0700
TZNAME:America/Denver MST
END:STANDARD
BEGIN:STANDARD
DTSTART:20301103T010000
RDATE:20310309T030000
TZOFFSETFROM:-0600
TZOFFSETTO:-0700
TZNAME:America/Denver MST
END:STANDARD
BEGIN:STANDARD
DTSTART:20311102T010000
RDATE:20320314T030000
TZOFFSETFROM:-0600
TZOFFSETTO:-0700
TZNAME:America/Denver MST
END:STANDARD
BEGIN:DAYLIGHT
DTSTART:20250419T063000
RDATE:20251102T010000
TZOFFSETFROM:-0700
TZOFFSETTO:-0600
TZNAME:America/Denver MDT
END:DAYLIGHT
BEGIN:DAYLIGHT
DTSTART:20260308T030000
RDATE:20261101T010000
TZOFFSETFROM:-0700
TZOFFSETTO:-0600
TZNAME:America/Denver MDT
END:DAYLIGHT
BEGIN:DAYLIGHT
DTSTART:20270314T030000
RDATE:20271107T010000
TZOFFSETFROM:-0700
TZOFFSETTO:-0600
TZNAME:America/Denver MDT
END:DAYLIGHT
BEGIN:DAYLIGHT
DTSTART:20280312T030000
RDATE:20281105T010000
TZOFFSETFROM:-0700
TZOFFSETTO:-0600
TZNAME:America/Denver MDT
END:DAYLIGHT
BEGIN:DAYLIGHT
DTSTART:20290311T030000
RDATE:20291104T010000
TZOFFSETFROM:-0700
TZOFFSETTO:-0600
TZNAME:America/Denver MDT
END:DAYLIGHT
BEGIN:DAYLIGHT
DTSTART:20300310T030000
RDATE:20301103T010000
TZOFFSETFROM:-0700
TZOFFSETTO:-0600
TZNAME:America/Denver MDT
END:DAYLIGHT
BEGIN:DAYLIGHT
DTSTART:20310309T030000
RDATE:20311102T010000
TZOFFSETFROM:-0700
TZOFFSETTO:-0600
TZNAME:America/Denver MDT
END:DAYLIGHT
END:VTIMEZONE
BEGIN:VEVENT
UID:d3f3a21159f5f345d8d2ffaca0e35d80
CATEGORIES:Politics
CREATED:20260420T165505
SUMMARY:Park County Public Input on Short Term Rentals
LOCATION:Park County BOCC Meeting Room, Administrative Office Building, 856 Castello
  Ave, Fairplay, CO 80440
DESCRIPTION;ENCODING=QUOTED-PRINTABLE:\n\nThis isn’t just about STRs… this is about our local economy.The propose
 d Short-Term Rental ordinance in Park County could have real, lasting impac
 ts on our community—especially for the small businesses and local workers w
 ho rely on visitor activity.Think about who STRs support:• Cleaners• Proper
 ty managers• Contractors &amp; handymen• Snow removal services• Restaurants
  &amp; coffee shops• Retail stores• Local service providersWhen STR activit
 y is reduced, that ripple effect is felt across our entire community. Fewer
  visitors means less spending, fewer jobs, and less income for the people w
 ho live and work here.Many second homeowners also rely on STR income to mak
 e owning property here possible—with plans to retire in Park County long-te
 rm. That investment is part of what has helped build this community.We don’
 t have an STR problem—we have an enforcement issue. Existing rules already 
 address noise, trash, and occupancy. Broad restrictions won’t fix that, but
  they will impact responsible owners and the local economy.There are two me
 etings this week where public input matters:Monday, April 20th | 6:30–7:30 
 PMThursday, April 23rd | 6:30–7:30 PMBOCC Board RoomJoin virtually: https:/
 /zoom.us/j/632627219?pwd=Q2gvUVEwd0JuQ0R3TE9qWE9LTk9kQT09If you’re a busine
 ss owner, employee, or part of this community—your voice matters.Please att
 end, speak, or submit comments. And share this with others who may be impac
 ted. Instructions on public comment.Let’s make sure the full economic impac
 t is part of this conversation.\n\n\n\n\n\nFrom Mountain House Properties\n
DTSTAMP:20260424T065424Z
DTSTART;TZID=America/Denver:20260420T063000
DTEND;TZID=America/Denver:20260420T193000
SEQUENCE:0
TRANSP:OPAQUE
END:VEVENT
END:VCALENDAR